BEGIN:VCALENDAR
VERSION:2.0
PRODID:-//Florida School Boards Insurance Trust - ECPv6.3.5//NONSGML v1.0//EN
CALSCALE:GREGORIAN
METHOD:PUBLISH
X-WR-CALNAME:Florida School Boards Insurance Trust
X-ORIGINAL-URL:https://www.fsbit.net
X-WR-CALDESC:Events for Florida School Boards Insurance Trust
REFRESH-INTERVAL;VALUE=DURATION:PT1H
X-Robots-Tag:noindex
X-PUBLISHED-TTL:PT1H
BEGIN:VTIMEZONE
TZID:America/New_York
BEGIN:DAYLIGHT
TZOFFSETFROM:-0500
TZOFFSETTO:-0400
TZNAME:EDT
DTSTART:20220313T070000
END:DAYLIGHT
BEGIN:STANDARD
TZOFFSETFROM:-0400
TZOFFSETTO:-0500
TZNAME:EST
DTSTART:20221106T060000
END:STANDARD
BEGIN:DAYLIGHT
TZOFFSETFROM:-0500
TZOFFSETTO:-0400
TZNAME:EDT
DTSTART:20230312T070000
END:DAYLIGHT
BEGIN:STANDARD
TZOFFSETFROM:-0400
TZOFFSETTO:-0500
TZNAME:EST
DTSTART:20231105T060000
END:STANDARD
END:VTIMEZONE
BEGIN:VEVENT
DTSTART;TZID=America/New_York:20230309T090000
DTEND;TZID=America/New_York:20230309T103000
DTSTAMP:20260424T031343
CREATED:20230304T024059Z
LAST-MODIFIED:20230512T121817Z
UID:20165-1678352400-1678357800@www.fsbit.net
SUMMARY:Monthly Risk Manager Meeting
DESCRIPTION:Monthly District Risk Manager Meetings \nvia Zoom
URL:https://www.fsbit.net/event/monthly-operators-meeting-2/
LOCATION:Zoom Meeting – S. Blaser\, 800 N. Calhoun Street\, Tallahassee\, FL\, 32303\, United States
END:VEVENT
BEGIN:VEVENT
DTSTART;VALUE=DATE:20230412
DTEND;VALUE=DATE:20230415
DTSTAMP:20260424T031343
CREATED:20230315T133147Z
LAST-MODIFIED:20230315T134318Z
UID:20280-1681257600-1681516799@www.fsbit.net
SUMMARY:2023 FSBIT Spring Meeting
DESCRIPTION:Arrival Tuesday\, (4/11)\nFull day\, Wednesday (4/12)\nFull day\, Thursday (4/13)\nHalf Day\, Friday (4/14)
URL:https://www.fsbit.net/event/2023-fsbit-april-meeting/
LOCATION:Mission Inn Resort & Club\, 10400 CR 48\, Howey-In-The-Hills\, FL\, 34737\, United States
ORGANIZER;CN="Dave Stephens":MAILTO:jthompson@fsbit.net
END:VEVENT
BEGIN:VEVENT
DTSTART;TZID=America/New_York:20230309T090000
DTEND;TZID=America/New_York:20230309T103000
DTSTAMP:20260424T031343
CREATED:20230304T024059Z
LAST-MODIFIED:20230512T121817Z
UID:20165-1678352400-1678357800@www.fsbit.net
SUMMARY:Monthly Risk Manager Meeting
DESCRIPTION:Monthly District Risk Manager Meetings \nvia Zoom
URL:https://www.fsbit.net/event/monthly-operators-meeting-2/
LOCATION:Zoom Meeting – S. Blaser\, 800 N. Calhoun Street\, Tallahassee\, FL\, 32303\, United States
END:VEVENT
BEGIN:VEVENT
DTSTART;TZID=America/New_York:20220810T090000
DTEND;TZID=America/New_York:20220810T100000
DTSTAMP:20260424T031343
CREATED:20201008T221212Z
LAST-MODIFIED:20220617T175535Z
UID:13424-1660122000-1660125600@www.fsbit.net
SUMMARY:Monthly Risk Manager Meeting
DESCRIPTION:Monthly District Risk Manager Meetings \nvia Zoom
URL:https://www.fsbit.net/event/monthly-operators-meeting/
LOCATION:Zoom Meeting – S. Blaser\, 800 N. Calhoun Street\, Tallahassee\, FL\, 32303\, United States
END:VEVENT
BEGIN:VEVENT
DTSTART;VALUE=DATE:20230117
DTEND;VALUE=DATE:20230121
DTSTAMP:20260424T031343
CREATED:20220124T221038Z
LAST-MODIFIED:20221205T184315Z
UID:18561-1673913600-1674259199@www.fsbit.net
SUMMARY:2023 FSBIT Winter Meeting
DESCRIPTION:Embassy Inn and Suites Orlando\nLake Buena Vista South \n1/17/2023 – Check in (Tuesday)\n1/18/2023 – 8:30AM start – Extended Day – breakout sessions beginning 8:45\n1/19/2023 – 8:30AM start – All Member Meeting\n1/20/2023 – 8:30AM start- Final presentations\, Business Meeting\, voting
URL:https://www.fsbit.net/event/2023-fsbit-winter-meeting/
LOCATION:Embassy Suites by Hilton Orlando Lake Buena Vista South\, 4955 Kyngs Heath Rd\, Kissimmee\, 34746\, United States
CATEGORIES:2023,Quarterly Meeting,Winter
ORGANIZER;CN="Dave Stephens":MAILTO:jthompson@fsbit.net
END:VEVENT
BEGIN:VEVENT
DTSTART;TZID=America/New_York:20220810T090000
DTEND;TZID=America/New_York:20220810T100000
DTSTAMP:20260424T031343
CREATED:20201008T221212Z
LAST-MODIFIED:20220617T175535Z
UID:13424-1660122000-1660125600@www.fsbit.net
SUMMARY:Monthly Risk Manager Meeting
DESCRIPTION:Monthly District Risk Manager Meetings \nvia Zoom
URL:https://www.fsbit.net/event/monthly-operators-meeting/
LOCATION:Zoom Meeting – S. Blaser\, 800 N. Calhoun Street\, Tallahassee\, FL\, 32303\, United States
END:VEVENT
BEGIN:VEVENT
DTSTART;TZID=America/New_York:20220810T090000
DTEND;TZID=America/New_York:20220810T100000
DTSTAMP:20260424T031343
CREATED:20201008T221212Z
LAST-MODIFIED:20220617T175535Z
UID:13424-1660122000-1660125600@www.fsbit.net
SUMMARY:Monthly Risk Manager Meeting
DESCRIPTION:Monthly District Risk Manager Meetings \nvia Zoom
URL:https://www.fsbit.net/event/monthly-operators-meeting/
LOCATION:Zoom Meeting – S. Blaser\, 800 N. Calhoun Street\, Tallahassee\, FL\, 32303\, United States
END:VEVENT
BEGIN:VEVENT
DTSTART;TZID=America/New_York:20220810T090000
DTEND;TZID=America/New_York:20220810T100000
DTSTAMP:20260424T031343
CREATED:20201008T221212Z
LAST-MODIFIED:20220617T175535Z
UID:13424-1660122000-1660125600@www.fsbit.net
SUMMARY:Monthly Risk Manager Meeting
DESCRIPTION:Monthly District Risk Manager Meetings \nvia Zoom
URL:https://www.fsbit.net/event/monthly-operators-meeting/
LOCATION:Zoom Meeting – S. Blaser\, 800 N. Calhoun Street\, Tallahassee\, FL\, 32303\, United States
END:VEVENT
BEGIN:VEVENT
DTSTART;TZID=America/New_York:20221021T100000
DTEND;TZID=America/New_York:20221021T110000
DTSTAMP:20260424T031343
CREATED:20220928T145153Z
LAST-MODIFIED:20221018T124529Z
UID:19627-1666346400-1666350000@www.fsbit.net
SUMMARY:SCR/Alert24: Best Practices & Training Assessment (session 2 : 10/21/2022)
DESCRIPTION:Download Complete Flyer \n\nTopic: SCR/Alert24: Best Practices & Training Assessment Webinar\nTime: Oct 21\, 2022 10:00 AM Eastern Time (US and Canada) \n\nJoin Zoom Meeting \n\nhttps://us02web.zoom.us/j/88502323012?pwd=bVBEZDBoNXk3VUxtNHFtSXE5Q0ZIdz09 \n\nMeeting ID: 885 0232 3012 \n\nPasscode: 100100 \n\nDial by your location \n\n+1 929 205 6099 US (New York)\n+1 301 715 8592 US (Washington DC)\n+1 312 626 6799 US (Chicago)\n+1 669 900 6833 US (San Jose)\n+1 719 359 4580 US
URL:https://www.fsbit.net/event/scr-alert24-best-practices-training-assessment-webinar-s2/
LOCATION:FL
ORGANIZER;CN="Jill Thompson":MAILTO:jthompson@fsbit.net
END:VEVENT
BEGIN:VEVENT
DTSTART;TZID=America/New_York:20221020T100000
DTEND;TZID=America/New_York:20221020T110000
DTSTAMP:20260424T031343
CREATED:20220928T145019Z
LAST-MODIFIED:20221019T103513Z
UID:19625-1666260000-1666263600@www.fsbit.net
SUMMARY:SCR/Alert24: Best Practices & Training Assessment (session 1 : 10/20/2022)
DESCRIPTION:SCR/Alert24: Best Practices & Training Assessment (session 1 : 10/20/2022) \nDownload Complete Flyer \n\nTopic: SCR/Alert24: Best Practices & Training Assessment Webinar\nTime: Oct 20\, 2022 10:00 AM Eastern Time (US and Canada) \n\nJoin Zoom Meeting \n\nhttps://us02web.zoom.us/j/82161308045?pwd=RWpIT1NOSnhFMVhMRUs4VVE0VGs1UT09 \n\nMeeting ID: 821 6130 8045 \n\nPasscode: 100100 \n\nDial by your location \n\n+1 301 715 8592 US (Washington DC)\n+1 312 626 6799 US (Chicago)\n+1 929 205 6099 US (New York)\n+1 669 900 6833 US (San Jose)\n+1 360 209 5623 US
URL:https://www.fsbit.net/event/scr-alert24-best-practices-training-assessment-s1/
LOCATION:https://us02web.zoom.us/j/82161308045?pwd=RWpIT1NOSnhFMVhMRUs4VVE0VGs1UT09
ORGANIZER;CN="Jill Thompson":MAILTO:jthompson@fsbit.net
END:VEVENT
BEGIN:VEVENT
DTSTART;TZID=America/New_York:20221012T120000
DTEND;TZID=America/New_York:20221014T130000
DTSTAMP:20260424T031343
CREATED:20220124T223510Z
LAST-MODIFIED:20220810T225311Z
UID:18565-1665576000-1665752400@www.fsbit.net
SUMMARY:2022 FSBIT Fall Meeting
DESCRIPTION:2022 FSBIT Fall Meeting
URL:https://www.fsbit.net/event/2022-fsbit-fall-meeting/
LOCATION:Embassy Suites St. Augustine\, 300 A1A Beach Boulevard\,\, St Augustine\, FL\, 32080\, United States
CATEGORIES:Fall,Quarterly Meeting
ORGANIZER;CN="Dave Stephens":MAILTO:jthompson@fsbit.net
END:VEVENT
BEGIN:VEVENT
DTSTART;TZID=America/New_York:20220810T090000
DTEND;TZID=America/New_York:20220810T100000
DTSTAMP:20260424T031343
CREATED:20201008T221212Z
LAST-MODIFIED:20220617T175535Z
UID:13424-1660122000-1660125600@www.fsbit.net
SUMMARY:Monthly Risk Manager Meeting
DESCRIPTION:Monthly District Risk Manager Meetings \nvia Zoom
URL:https://www.fsbit.net/event/monthly-operators-meeting/
LOCATION:Zoom Meeting – S. Blaser\, 800 N. Calhoun Street\, Tallahassee\, FL\, 32303\, United States
END:VEVENT
BEGIN:VEVENT
DTSTART;TZID=America/New_York:20220810T090000
DTEND;TZID=America/New_York:20220810T100000
DTSTAMP:20260424T031343
CREATED:20201008T221212Z
LAST-MODIFIED:20220617T175535Z
UID:13424-1660122000-1660125600@www.fsbit.net
SUMMARY:Monthly Risk Manager Meeting
DESCRIPTION:Monthly District Risk Manager Meetings \nvia Zoom
URL:https://www.fsbit.net/event/monthly-operators-meeting/
LOCATION:Zoom Meeting – S. Blaser\, 800 N. Calhoun Street\, Tallahassee\, FL\, 32303\, United States
END:VEVENT
END:VCALENDAR